BEGIN:VCALENDAR
VERSION:2.0
PRODID:-//Paróquia Santa Teresa de Jesus - ECPv6.15.11//NONSGML v1.0//EN
CALSCALE:GREGORIAN
METHOD:PUBLISH
X-ORIGINAL-URL:https://paroquiasantateresa.com.br
X-WR-CALDESC:Eventos para Paróquia Santa Teresa de Jesus
REFRESH-INTERVAL;VALUE=DURATION:PT1H
X-Robots-Tag:noindex
X-PUBLISHED-TTL:PT1H
BEGIN:VTIMEZONE
TZID:UTC
BEGIN:STANDARD
TZOFFSETFROM:+0000
TZOFFSETTO:+0000
TZNAME:UTC
DTSTART:20240101T000000
END:STANDARD
END:VTIMEZONE
BEGIN:VEVENT
DTSTART;VALUE=DATE:20250630
DTEND;VALUE=DATE:20250712
DTSTAMP:20260423T161350
CREATED:20250217T214007Z
LAST-MODIFIED:20250217T214007Z
UID:3378-1751241600-1752278399@paroquiasantateresa.com.br
SUMMARY:Bazar de Roupas
DESCRIPTION:Todas as Terças das 8 hrs às 12h30
URL:https://paroquiasantateresa.com.br/evento/bazar-de-roupas/
CATEGORIES:All Events
ATTACH;FMTTYPE=image/jpeg:https://paroquiasantateresa.com.br/wp-content/uploads/2025/02/Imagem-do-WhatsApp-de-2025-01-22-as-21.52.16_93ca5633.jpg
END:VEVENT
BEGIN:VEVENT
DTSTART;TZID=UTC:20250629T180000
DTEND;TZID=UTC:20250629T190000
DTSTAMP:20260423T161350
CREATED:20240517T214350Z
LAST-MODIFIED:20250605T000733Z
UID:3054-1751220000-1751223600@paroquiasantateresa.com.br
SUMMARY:BÊNÇÃO PARA OS CASAIS ANIVERSARIANTES DO MÊS DE JUNHO
DESCRIPTION:📅 Dia: 29/06 (domingo)\n⛪ Missa: 18h00
URL:https://paroquiasantateresa.com.br/evento/bencao-especial-para-os-casais/
ATTACH;FMTTYPE=image/jpeg:https://paroquiasantateresa.com.br/wp-content/uploads/2024/05/IMG-20250604-WA0017.jpg
END:VEVENT
BEGIN:VEVENT
DTSTART;TZID=UTC:20250628T093000
DTEND;TZID=UTC:20250628T120000
DTSTAMP:20260423T161350
CREATED:20250605T000526Z
LAST-MODIFIED:20250605T000526Z
UID:3450-1751103000-1751112000@paroquiasantateresa.com.br
SUMMARY:MISSA DA PRIMEIRA COMUNHÃO
DESCRIPTION:📅 Dia: 28/06 (sábado)\n⏰ Missa: 09h30
URL:https://paroquiasantateresa.com.br/evento/missa-da-primeira-comunhao/
ATTACH;FMTTYPE=image/jpeg:https://paroquiasantateresa.com.br/wp-content/uploads/2025/06/IMG-20250604-WA0019.jpg
END:VEVENT
BEGIN:VEVENT
DTSTART;TZID=UTC:20250628T093000
DTEND;TZID=UTC:20250628T113000
DTSTAMP:20260423T161350
CREATED:20250604T234154Z
LAST-MODIFIED:20250604T234154Z
UID:3419-1751103000-1751110200@paroquiasantateresa.com.br
SUMMARY:Manhã de Espiritualidade
DESCRIPTION:Manhã de Espiritualidade – Sábado\, 28 de junho às 09h30 às 11h30
URL:https://paroquiasantateresa.com.br/evento/manha-de-espiritualidade/
CATEGORIES:All Events
ATTACH;FMTTYPE=image/jpeg:https://paroquiasantateresa.com.br/wp-content/uploads/2025/06/IMG-20250604-WA0002.jpg
END:VEVENT
BEGIN:VEVENT
DTSTART;TZID=UTC:20250628T070000
DTEND;TZID=UTC:20250628T083000
DTSTAMP:20260423T161350
CREATED:20250605T000857Z
LAST-MODIFIED:20250605T000857Z
UID:3456-1751094000-1751099400@paroquiasantateresa.com.br
SUMMARY:IMACULADO CORAÇÃO DA VIRGEM MARIA
DESCRIPTION:Dia: 28/06 (sábado)\nMissa: 07h00
URL:https://paroquiasantateresa.com.br/evento/imaculado-coracao-da-virgem-maria/
ATTACH;FMTTYPE=image/jpeg:https://paroquiasantateresa.com.br/wp-content/uploads/2025/06/IMG-20250604-WA0016.jpg
END:VEVENT
BEGIN:VEVENT
DTSTART;TZID=UTC:20250626T203000
DTEND;TZID=UTC:20250626T213000
DTSTAMP:20260423T161350
CREATED:20250604T234424Z
LAST-MODIFIED:20250604T234424Z
UID:3422-1750969800-1750973400@paroquiasantateresa.com.br
SUMMARY:Escola de Evangelização
DESCRIPTION:Tema: “Como surgiu a Bíblia”\nPalestrante: Frei Paulo \nDia: 26/06 (quinta-feira)\nHorário: 20h30 às 21h30
URL:https://paroquiasantateresa.com.br/evento/escola-de-evangelizacao-9/
CATEGORIES:All Events
ATTACH;FMTTYPE=image/jpeg:https://paroquiasantateresa.com.br/wp-content/uploads/2025/06/IMG-20250604-WA0005.jpg
END:VEVENT
BEGIN:VEVENT
DTSTART;TZID=UTC:20250621T140000
DTEND;TZID=UTC:20250622T153000
DTSTAMP:20260423T161350
CREATED:20240524T213636Z
LAST-MODIFIED:20250605T000233Z
UID:3072-1750514400-1750606200@paroquiasantateresa.com.br
SUMMARY:BATISMO
DESCRIPTION:CURSO PARA BATISMO \n📅 Dia: 21/06 (sábado)\n⏰ Horário: das 14h às 18h \nCELEBRAÇÃO DO BATISMO\n📅 Dia: 22/06 (domingo)\n⏰ Horário: 15h30
URL:https://paroquiasantateresa.com.br/evento/curso-de-batismo-3/
CATEGORIES:All Events
ATTACH;FMTTYPE=image/jpeg:https://paroquiasantateresa.com.br/wp-content/uploads/2024/05/IMG-20250604-WA0012.jpg
END:VEVENT
BEGIN:VEVENT
DTSTART;TZID=UTC:20250615T180000
DTEND;TZID=UTC:20250615T190000
DTSTAMP:20260423T161350
CREATED:20250605T000040Z
LAST-MODIFIED:20250605T000040Z
UID:3443-1750010400-1750014000@paroquiasantateresa.com.br
SUMMARY:MISSA COM BÊNÇÃOS PARA OS PROFESSORES
DESCRIPTION:📅 Dia: 15/06 (domingo)\n⏰ Missa: 18h00 \n✨ Haverá bênção para os professores.
URL:https://paroquiasantateresa.com.br/evento/missa-com-bencaos-para-os-professores/
ATTACH;FMTTYPE=image/jpeg:https://paroquiasantateresa.com.br/wp-content/uploads/2025/06/IMG-20250604-WA0013.jpg
END:VEVENT
BEGIN:VEVENT
DTSTART;TZID=UTC:20250614T190000
DTEND;TZID=UTC:20250615T210000
DTSTAMP:20260423T161350
CREATED:20250604T235158Z
LAST-MODIFIED:20250604T235158Z
UID:3431-1749927600-1750021200@paroquiasantateresa.com.br
SUMMARY:SANTÍSSIMA TRINDADE
DESCRIPTION:Dia: 14/06 (sábado)\nMissa: 19h30 \nDia: 15/06 (domingo)\nMissas: 07h\, 09h\, 11h\, 18h e 20h
URL:https://paroquiasantateresa.com.br/evento/santissima-trindade/
ATTACH;FMTTYPE=image/jpeg:https://paroquiasantateresa.com.br/wp-content/uploads/2025/06/IMG-20250604-WA0007.jpg
END:VEVENT
BEGIN:VEVENT
DTSTART;VALUE=DATE:20250614
DTEND;VALUE=DATE:20250616
DTSTAMP:20260423T161350
CREATED:20240524T214619Z
LAST-MODIFIED:20250604T233545Z
UID:3086-1749859200-1750031999@paroquiasantateresa.com.br
SUMMARY:Boutique Bazar da Barraca Havaiana
DESCRIPTION:Dia: 14/06 (Sábado) \nHorário: das 18h30 às 21h00 \nDia: 15/06 (Domingo) \nHorário: das 08h30 às 13h00
URL:https://paroquiasantateresa.com.br/evento/boutique-bazar/
ATTACH;FMTTYPE=image/jpeg:https://paroquiasantateresa.com.br/wp-content/uploads/2024/05/Imagem-do-WhatsApp-de-2025-06-03-as-23.46.34_da6a082d.jpg
END:VEVENT
BEGIN:VEVENT
DTSTART;TZID=UTC:20250613T070000
DTEND;TZID=UTC:20250613T203000
DTSTAMP:20260423T161350
CREATED:20250604T234721Z
LAST-MODIFIED:20250604T234721Z
UID:3425-1749798000-1749846600@paroquiasantateresa.com.br
SUMMARY:Santo Antônio de Pádua\, Presbítero e Doutor da Igreja
DESCRIPTION:Dia:13/06 (sexta-feira)\nMissas: 07h00 e 19h30
URL:https://paroquiasantateresa.com.br/evento/santo-antonio-de-padua-presbitero-e-doutor-da-igreja/
ATTACH;FMTTYPE=image/jpeg:https://paroquiasantateresa.com.br/wp-content/uploads/2025/06/IMG-20250604-WA0009.jpg
END:VEVENT
BEGIN:VEVENT
DTSTART;TZID=UTC:20250612T203000
DTEND;TZID=UTC:20250612T213000
DTSTAMP:20260423T161350
CREATED:20250604T234023Z
LAST-MODIFIED:20250604T234023Z
UID:3416-1749760200-1749763800@paroquiasantateresa.com.br
SUMMARY:Escola de Evangelização
DESCRIPTION:Tema: “Palavra de Deus: luz e força” – Quinta-feira\, 12 de junho às 20h30
URL:https://paroquiasantateresa.com.br/evento/escola-de-evangelizacao-8/
CATEGORIES:All Events
ATTACH;FMTTYPE=image/jpeg:https://paroquiasantateresa.com.br/wp-content/uploads/2025/06/IMG-20250604-WA0003.jpg
END:VEVENT
BEGIN:VEVENT
DTSTART;TZID=UTC:20250609T070000
DTEND;TZID=UTC:20250609T203000
DTSTAMP:20260423T161350
CREATED:20250604T235655Z
LAST-MODIFIED:20250604T235655Z
UID:3437-1749452400-1749501000@paroquiasantateresa.com.br
SUMMARY:BEM-AVENTURADA VIRGEM MARIA\, MÃE DA IGREJA
DESCRIPTION:Dia: 09/06 (segunda-feira)\nMissas: 07h00\, 12h15 e 19h30
URL:https://paroquiasantateresa.com.br/evento/bem-aventurada-virgem-maria-mae-da-igreja/
ATTACH;FMTTYPE=image/jpeg:https://paroquiasantateresa.com.br/wp-content/uploads/2025/06/IMG-20250604-WA0015.jpg
END:VEVENT
BEGIN:VEVENT
DTSTART;TZID=UTC:20250608T123000
DTEND;TZID=UTC:20250608T160000
DTSTAMP:20260423T161350
CREATED:20250605T001113Z
LAST-MODIFIED:20250605T001215Z
UID:3459-1749385800-1749398400@paroquiasantateresa.com.br
SUMMARY:CHURRASBINGO DE PENTECOSTES
DESCRIPTION:📅 08/06 (DOMINGO) às 12h30\n📍 Local: Salão paroquial\n💰 Valor: R$70\,00
URL:https://paroquiasantateresa.com.br/evento/churrasbingo-de-pentecostes-2/
ATTACH;FMTTYPE=image/jpeg:https://paroquiasantateresa.com.br/wp-content/uploads/2025/06/IMG-20250604-WA0021.jpg
END:VEVENT
BEGIN:VEVENT
DTSTART;TZID=UTC:20250607T190000
DTEND;TZID=UTC:20250608T210000
DTSTAMP:20260423T161350
CREATED:20250604T234934Z
LAST-MODIFIED:20250604T234934Z
UID:3428-1749322800-1749416400@paroquiasantateresa.com.br
SUMMARY:DOMINGO DE PENTECOSTES
DESCRIPTION:Dia: 07/06 (sábado)\nMissa: 19h30 \nDia: 08/06 (domingo)\nMissas: 07h\, 09h\, 11h\, 18h e 20h
URL:https://paroquiasantateresa.com.br/evento/domingo-de-pentecostes/
ATTACH;FMTTYPE=image/jpeg:https://paroquiasantateresa.com.br/wp-content/uploads/2025/06/IMG-20250604-WA0008.jpg
END:VEVENT
BEGIN:VEVENT
DTSTART;TZID=UTC:20250606T070000
DTEND;TZID=UTC:20250606T203000
DTSTAMP:20260423T161350
CREATED:20230502T000338Z
LAST-MODIFIED:20250605T000402Z
UID:2636-1749193200-1749241800@paroquiasantateresa.com.br
SUMMARY:MISSA VOTIVA DO SAGRADO CORAÇÃO DE JESUS
DESCRIPTION:📅 Dia: 06/06 (sexta-feira)\n⏰ Missas: 07h00 e 19h30
URL:https://paroquiasantateresa.com.br/evento/missa-votiva-do-sagrado-coracao-de-jesus-10/
ATTACH;FMTTYPE=image/jpeg:https://paroquiasantateresa.com.br/wp-content/uploads/2023/05/IMG-20250604-WA0011.jpg
END:VEVENT
BEGIN:VEVENT
DTSTART;TZID=UTC:20250605T203000
DTEND;TZID=UTC:20250605T213000
DTSTAMP:20260423T161350
CREATED:20231108T005120Z
LAST-MODIFIED:20250604T233856Z
UID:2951-1749155400-1749159000@paroquiasantateresa.com.br
SUMMARY:Lectio Divina
DESCRIPTION:Dia 05 de junho (quinta-feira) das 20h30 às 21h30 (Passagem: Lc 16\, 19-31) com Frei Miguel
URL:https://paroquiasantateresa.com.br/evento/lectio-divina-3/
ATTACH;FMTTYPE=image/jpeg:https://paroquiasantateresa.com.br/wp-content/uploads/2023/11/IMG-20250604-WA0004.jpg
END:VEVENT
BEGIN:VEVENT
DTSTART;VALUE=DATE:20250604
DTEND;VALUE=DATE:20250812
DTSTAMP:20260423T161350
CREATED:20250604T235851Z
LAST-MODIFIED:20250604T235858Z
UID:3440-1748995200-1754956799@paroquiasantateresa.com.br
SUMMARY:Iniciação à VIDA EUCARÍSTICA
DESCRIPTION:Inscrições abertas para Catequese Infantil \n📅 Início: 10/08 (domingo)\n🕘 Horário: 09h às 12h\n(missa + encontro) \nAs datas completas dos encontros presenciais serão informadas no encontro inicial. \n📞 Maiores informações\, entrar em contato com:\nRodrigo Ribas – (11) 99139 2595
URL:https://paroquiasantateresa.com.br/evento/iniciacao-a-vida-eucaristica/
ATTACH;FMTTYPE=image/jpeg:https://paroquiasantateresa.com.br/wp-content/uploads/2025/06/IMG-20250604-WA0014.jpg
END:VEVENT
BEGIN:VEVENT
DTSTART;TZID=UTC:20250529T193000
DTEND;TZID=UTC:20250606T203000
DTSTAMP:20260423T161350
CREATED:20240510T142416Z
LAST-MODIFIED:20250604T235453Z
UID:3006-1748547000-1749241800@paroquiasantateresa.com.br
SUMMARY:Novena de Pentecostes
DESCRIPTION:Início: 29/05 (quinta-feira)\nDurante a semana e sábado\, após as missas das 19h30.\nNo domingo\, dia 01/06\, após a missa das 18h.
URL:https://paroquiasantateresa.com.br/evento/novena-de-pentecostes/
CATEGORIES:All Events
ATTACH;FMTTYPE=image/jpeg:https://paroquiasantateresa.com.br/wp-content/uploads/2024/05/IMG-20250604-WA0006.jpg
END:VEVENT
BEGIN:VEVENT
DTSTART;TZID=UTC:20250426T093000
DTEND;TZID=UTC:20250426T113000
DTSTAMP:20260423T161350
CREATED:20240510T145502Z
LAST-MODIFIED:20250402T003810Z
UID:3036-1745659800-1745667000@paroquiasantateresa.com.br
SUMMARY:Manhã de Espiritualidade
DESCRIPTION:Manhã de Espiritualidade – Sábado\, 26 de abril às 09h30 às 11h30
URL:https://paroquiasantateresa.com.br/evento/manha-de-espiritualidade-10/
CATEGORIES:All Events
ATTACH;FMTTYPE=image/jpeg:https://paroquiasantateresa.com.br/wp-content/uploads/2024/05/IMG-20250401-WA0009.jpg
END:VEVENT
BEGIN:VEVENT
DTSTART;TZID=UTC:20250424T203000
DTEND;TZID=UTC:20250424T213000
DTSTAMP:20260423T161350
CREATED:20250217T213447Z
LAST-MODIFIED:20250402T003917Z
UID:3371-1745526600-1745530200@paroquiasantateresa.com.br
SUMMARY:Escola de Evangelização
DESCRIPTION:Tema: “A pessoa de Jesus Cristo” – Quinta-feira\, 24 de abril às 20h30
URL:https://paroquiasantateresa.com.br/evento/escola-de-evangelizacao-6/
CATEGORIES:All Events
ATTACH;FMTTYPE=image/jpeg:https://paroquiasantateresa.com.br/wp-content/uploads/2025/02/IMG-20250401-WA0007.jpg
END:VEVENT
BEGIN:VEVENT
DTSTART;TZID=UTC:20250415T190000
DTEND;TZID=UTC:20250415T203000
DTSTAMP:20260423T161350
CREATED:20231108T005323Z
LAST-MODIFIED:20250402T004116Z
UID:2954-1744743600-1744749000@paroquiasantateresa.com.br
SUMMARY:Benção para os professores
DESCRIPTION:Quinta-Feira (15/04/2025) – 19H30
URL:https://paroquiasantateresa.com.br/evento/missa-para-os-professores-devotos-de-santa-teresa-de-jesus/
ATTACH;FMTTYPE=image/jpeg:https://paroquiasantateresa.com.br/wp-content/uploads/2023/11/IMG-20250401-WA0006.jpg
END:VEVENT
BEGIN:VEVENT
DTSTART;TZID=UTC:20250415T093000
DTEND;TZID=UTC:20250416T203000
DTSTAMP:20260423T161350
CREATED:20250402T004414Z
LAST-MODIFIED:20250402T004414Z
UID:3399-1744709400-1744835400@paroquiasantateresa.com.br
SUMMARY:Atendimento Confissões
DESCRIPTION:Dia 15/04 (Terça-feira) das 12h00 às 13h00 \nDia 16/04 (Quarta-feira) das 19h00 às 20h30
URL:https://paroquiasantateresa.com.br/evento/atendimento-confissoes/
CATEGORIES:All Events
ATTACH;FMTTYPE=image/jpeg:https://paroquiasantateresa.com.br/wp-content/uploads/2025/04/IMG-20250401-WA0004.jpg
END:VEVENT
BEGIN:VEVENT
DTSTART;TZID=UTC:20250413T163000
DTEND;TZID=UTC:20250413T180000
DTSTAMP:20260423T161350
CREATED:20250402T003321Z
LAST-MODIFIED:20250402T003321Z
UID:3382-1744561800-1744567200@paroquiasantateresa.com.br
SUMMARY:Procissão do Encontro
DESCRIPTION:Dia: 13/04 (Domingo) \nHorário: 16h30
URL:https://paroquiasantateresa.com.br/evento/procissao-do-encontro/
ATTACH;FMTTYPE=image/jpeg:https://paroquiasantateresa.com.br/wp-content/uploads/2025/04/IMG-20250401-WA0012.jpg
END:VEVENT
BEGIN:VEVENT
DTSTART;TZID=UTC:20250412T190000
DTEND;TZID=UTC:20250413T200000
DTSTAMP:20260423T161350
CREATED:20250402T003616Z
LAST-MODIFIED:20250402T003616Z
UID:3385-1744484400-1744574400@paroquiasantateresa.com.br
SUMMARY:Domingo de Ramos
DESCRIPTION:Dia: 12/04 (Sábado) \nMissa: 19h30 \nDia: 13/04 (domingo) \nMissas: 7:00\, 9:00\, 11:00\, 18:00 e 20:00
URL:https://paroquiasantateresa.com.br/evento/domingo-de-ramos/
CATEGORIES:All Events
ATTACH;FMTTYPE=image/jpeg:https://paroquiasantateresa.com.br/wp-content/uploads/2025/04/IMG-20250401-WA0010.jpg
END:VEVENT
BEGIN:VEVENT
DTSTART;TZID=UTC:20250410T203000
DTEND;TZID=UTC:20250410T213000
DTSTAMP:20260423T161350
CREATED:20250402T004212Z
LAST-MODIFIED:20250402T004212Z
UID:3396-1744317000-1744320600@paroquiasantateresa.com.br
SUMMARY:Escola de Evangelização
DESCRIPTION:Tema: “O profeta Elias” – Quinta-feira\, 10 de abril às 20h30
URL:https://paroquiasantateresa.com.br/evento/escola-de-evangelizacao-7/
CATEGORIES:All Events
ATTACH;FMTTYPE=image/jpeg:https://paroquiasantateresa.com.br/wp-content/uploads/2025/04/IMG-20250401-WA0005.jpg
END:VEVENT
BEGIN:VEVENT
DTSTART;TZID=UTC:20250406T090000
DTEND;TZID=UTC:20250406T130000
DTSTAMP:20260423T161350
CREATED:20250402T005018Z
LAST-MODIFIED:20250402T005018Z
UID:3408-1743930000-1743944400@paroquiasantateresa.com.br
SUMMARY:Macarronada do Nono
DESCRIPTION:Dia: 06/04 \nVendas após das missas da 09h e 11h
URL:https://paroquiasantateresa.com.br/evento/macarronada-do-nono/
ATTACH;FMTTYPE=image/jpeg:https://paroquiasantateresa.com.br/wp-content/uploads/2025/04/IMG-20250401-WA0018.jpg
END:VEVENT
BEGIN:VEVENT
DTSTART;VALUE=DATE:20250401
DTEND;VALUE=DATE:20250601
DTSTAMP:20260423T161350
CREATED:20230730T004605Z
LAST-MODIFIED:20250402T003715Z
UID:2821-1743465600-1748735999@paroquiasantateresa.com.br
SUMMARY:Novena Perpétua de Santa Teresa de Jesus
DESCRIPTION:Toda Segunda-Feira às 15H00
URL:https://paroquiasantateresa.com.br/evento/novena-perpetua-de-santa-teresa-de-jesus-2/
ATTACH;FMTTYPE=image/jpeg:https://paroquiasantateresa.com.br/wp-content/uploads/2023/07/IMG-20250401-WA0011.jpg
END:VEVENT
BEGIN:VEVENT
DTSTART;TZID=UTC:20250220T203000
DTEND;TZID=UTC:20250220T213000
DTSTAMP:20260423T161350
CREATED:20241119T002834Z
LAST-MODIFIED:20250217T213338Z
UID:3330-1740083400-1740087000@paroquiasantateresa.com.br
SUMMARY:Escola de Evangelização
DESCRIPTION:Tema: “Ânsia de viver” – Quinta-feira\, 20 de fevereiro às 20h30
URL:https://paroquiasantateresa.com.br/evento/escola-de-evangelizacao-5/
CATEGORIES:All Events
ATTACH;FMTTYPE=image/jpeg:https://paroquiasantateresa.com.br/wp-content/uploads/2024/11/IMG-20250217-WA0006.jpg
END:VEVENT
BEGIN:VEVENT
DTSTART;VALUE=DATE:20250217
DTEND;VALUE=DATE:20250301
DTSTAMP:20260423T161350
CREATED:20230129T163452Z
LAST-MODIFIED:20250217T212742Z
UID:2403-1739750400-1740787199@paroquiasantateresa.com.br
SUMMARY:Queima de Ramos
DESCRIPTION:Devem ser entregues no hall de entrada da paróquia\, até o dia 28/02
URL:https://paroquiasantateresa.com.br/evento/queima-de-ramos/
CATEGORIES:All Events
ATTACH;FMTTYPE=image/jpeg:https://paroquiasantateresa.com.br/wp-content/uploads/2023/01/Imagem-do-WhatsApp-de-2025-02-11-as-22.12.15_9a435d89.jpg
END:VEVENT
END:VCALENDAR