BEGIN:VCALENDAR
VERSION:2.0
PRODID:-//Paróquia Santa Teresa de Jesus - ECPv6.15.11//NONSGML v1.0//EN
CALSCALE:GREGORIAN
METHOD:PUBLISH
X-WR-CALNAME:Paróquia Santa Teresa de Jesus
X-ORIGINAL-URL:https://paroquiasantateresa.com.br
X-WR-CALDESC:Eventos para Paróquia Santa Teresa de Jesus
REFRESH-INTERVAL;VALUE=DURATION:PT1H
X-Robots-Tag:noindex
X-PUBLISHED-TTL:PT1H
BEGIN:VTIMEZONE
TZID:UTC
BEGIN:STANDARD
TZOFFSETFROM:+0000
TZOFFSETTO:+0000
TZNAME:UTC
DTSTART:20230101T000000
END:STANDARD
END:VTIMEZONE
BEGIN:VEVENT
DTSTART;TZID=UTC:20241020T170000
DTEND;TZID=UTC:20241020T180000
DTSTAMP:20260423T225502
CREATED:20241001T000606Z
LAST-MODIFIED:20241001T000606Z
UID:3222-1729443600-1729447200@paroquiasantateresa.com.br
SUMMARY:42ª Festa dos Povos - Expresion Cuequera
DESCRIPTION:42ª Festa dos Povos – Expresion Cuequera
URL:https://paroquiasantateresa.com.br/evento/42a-festa-dos-povos-expresion-cuequera/
ATTACH;FMTTYPE=image/jpeg:https://paroquiasantateresa.com.br/wp-content/uploads/2024/10/IMG-20240930-WA0012.jpg
END:VEVENT
BEGIN:VEVENT
DTSTART;TZID=UTC:20241020T160000
DTEND;TZID=UTC:20241020T170000
DTSTAMP:20260423T225502
CREATED:20241001T000712Z
LAST-MODIFIED:20241001T000712Z
UID:3225-1729440000-1729443600@paroquiasantateresa.com.br
SUMMARY:42ª Festa dos Povos - Luciana Melo
DESCRIPTION:42ª Festa dos Povos – Luciana Melo
URL:https://paroquiasantateresa.com.br/evento/42a-festa-dos-povos-luciana-melo/
ATTACH;FMTTYPE=image/jpeg:https://paroquiasantateresa.com.br/wp-content/uploads/2024/10/IMG-20240930-WA0011.jpg
END:VEVENT
BEGIN:VEVENT
DTSTART;TZID=UTC:20241020T134500
DTEND;TZID=UTC:20241020T144500
DTSTAMP:20260423T225502
CREATED:20241001T002859Z
LAST-MODIFIED:20241001T002859Z
UID:3268-1729431900-1729435500@paroquiasantateresa.com.br
SUMMARY:42ª Festa dos Povos - Grupo Apolo de Danças Gregas
DESCRIPTION:42ª Festa dos Povos – Grupo Apolo de Danças Gregas
URL:https://paroquiasantateresa.com.br/evento/42a-festa-dos-povos-grupo-apolo-de-dancas-gregas/
ATTACH;FMTTYPE=image/jpeg:https://paroquiasantateresa.com.br/wp-content/uploads/2024/10/IMG-20240930-WA0004.jpg
END:VEVENT
BEGIN:VEVENT
DTSTART;TZID=UTC:20241020T120000
DTEND;TZID=UTC:20241020T130000
DTSTAMP:20260423T225502
CREATED:20241001T001608Z
LAST-MODIFIED:20241001T001608Z
UID:3243-1729425600-1729429200@paroquiasantateresa.com.br
SUMMARY:42ª Festa dos Povos - Renan Oliveira
DESCRIPTION:42ª Festa dos Povos – Renan Oliveira
URL:https://paroquiasantateresa.com.br/evento/42a-festa-dos-povos-renan-oliveira/
ATTACH;FMTTYPE=image/jpeg:https://paroquiasantateresa.com.br/wp-content/uploads/2024/10/IMG-20240930-WA0001.jpg
END:VEVENT
BEGIN:VEVENT
DTSTART;TZID=UTC:20241020T110000
DTEND;TZID=UTC:20241020T120000
DTSTAMP:20260423T225502
CREATED:20241001T001404Z
LAST-MODIFIED:20241001T001404Z
UID:3237-1729422000-1729425600@paroquiasantateresa.com.br
SUMMARY:42ª Festa dos Povos - Grupo Jeroky Paraguay Mi Pasión
DESCRIPTION:42ª Festa dos Povos – Grupo Jeroky Paraguay Mi Pasión
URL:https://paroquiasantateresa.com.br/evento/42a-festa-dos-povos-grupo-jeroky-paraguay-mi-pasion/
ATTACH;FMTTYPE=image/jpeg:https://paroquiasantateresa.com.br/wp-content/uploads/2024/10/IMG-20240930-WA0003.jpg
END:VEVENT
BEGIN:VEVENT
DTSTART;TZID=UTC:20241019T200000
DTEND;TZID=UTC:20241020T210000
DTSTAMP:20260423T225502
CREATED:20241001T001511Z
LAST-MODIFIED:20241001T001511Z
UID:3240-1729368000-1729458000@paroquiasantateresa.com.br
SUMMARY:42ª Festa dos Povos - Only Rock
DESCRIPTION:42ª Festa dos Povos – Only Rock
URL:https://paroquiasantateresa.com.br/evento/42a-festa-dos-povos-only-rock/
ATTACH;FMTTYPE=image/jpeg:https://paroquiasantateresa.com.br/wp-content/uploads/2024/10/IMG-20240930-WA0002.jpg
END:VEVENT
BEGIN:VEVENT
DTSTART;TZID=UTC:20241018T070000
DTEND;TZID=UTC:20241018T193000
DTSTAMP:20260423T225502
CREATED:20221004T013403Z
LAST-MODIFIED:20241001T003850Z
UID:2152-1729234800-1729279800@paroquiasantateresa.com.br
SUMMARY:São Lucas\, Apóstolo e Evangelista
DESCRIPTION:Sexta-Feira\, 18 de outubro – Missas às 7H00 e 19h30
URL:https://paroquiasantateresa.com.br/evento/sao-lucas-evangelista-festa/
ATTACH;FMTTYPE=image/jpeg:https://paroquiasantateresa.com.br/wp-content/uploads/2022/10/IMG-20240930-WA0025.jpg
END:VEVENT
BEGIN:VEVENT
DTSTART;TZID=UTC:20241017T203000
DTEND;TZID=UTC:20241017T213000
DTSTAMP:20260423T225502
CREATED:20240601T153210Z
LAST-MODIFIED:20240930T235822Z
UID:3098-1729197000-1729200600@paroquiasantateresa.com.br
SUMMARY:Escola de Evangelização
DESCRIPTION:Tema: “O valor histórico…” – Quinta-feira\, 17 de outubro às 20h30
URL:https://paroquiasantateresa.com.br/evento/escola-de-evangelizacao-2/
CATEGORIES:All Events
ATTACH;FMTTYPE=image/jpeg:https://paroquiasantateresa.com.br/wp-content/uploads/2024/06/IMG-20240930-WA0023.jpg
END:VEVENT
BEGIN:VEVENT
DTSTART;TZID=UTC:20241015T073000
DTEND;TZID=UTC:20241015T210000
DTSTAMP:20260423T225502
CREATED:20241001T003429Z
LAST-MODIFIED:20241001T003447Z
UID:3276-1728977400-1729026000@paroquiasantateresa.com.br
SUMMARY:Santa Teresa de Jesus\, Virgem e doutora da igreja
DESCRIPTION:Dia: 15/10 \nMissas: 07h00\, 12h15 e 20h00
URL:https://paroquiasantateresa.com.br/evento/santa-teresa-de-jesus-virgem-e-doutora-da-igreja/
ATTACH;FMTTYPE=image/jpeg:https://paroquiasantateresa.com.br/wp-content/uploads/2024/10/IMG-20240930-WA0028.jpg
END:VEVENT
BEGIN:VEVENT
DTSTART;TZID=UTC:20241014T180000
DTEND;TZID=UTC:20241014T193000
DTSTAMP:20260423T225502
CREATED:20241001T002631Z
LAST-MODIFIED:20241001T002631Z
UID:3262-1728928800-1728934200@paroquiasantateresa.com.br
SUMMARY:9º Dia Novena de Santa Teresa de Jesus
DESCRIPTION:Tema: Oração que produz frutos bons e abundantes
URL:https://paroquiasantateresa.com.br/evento/9o-dia-novena-de-santa-teresa-de-jesus-2/
ATTACH;FMTTYPE=image/jpeg:https://paroquiasantateresa.com.br/wp-content/uploads/2024/10/IMG-20240930-WA0008.jpg
END:VEVENT
BEGIN:VEVENT
DTSTART;TZID=UTC:20241013T180000
DTEND;TZID=UTC:20241013T193000
DTSTAMP:20260423T225502
CREATED:20241001T000940Z
LAST-MODIFIED:20241001T000940Z
UID:3228-1728842400-1728847800@paroquiasantateresa.com.br
SUMMARY:8º Dia Novena de Santa Teresa de Jesus
DESCRIPTION:Tema: Oração por\, para e com Deus que é Amor.
URL:https://paroquiasantateresa.com.br/evento/8o-dia-novena-de-santa-teresa-de-jesus-2/
ATTACH;FMTTYPE=image/jpeg:https://paroquiasantateresa.com.br/wp-content/uploads/2024/10/IMG-20240930-WA0010.jpg
END:VEVENT
BEGIN:VEVENT
DTSTART;TZID=UTC:20241012T193000
DTEND;TZID=UTC:20241012T203000
DTSTAMP:20260423T225502
CREATED:20241001T002117Z
LAST-MODIFIED:20241001T002117Z
UID:3252-1728761400-1728765000@paroquiasantateresa.com.br
SUMMARY:7º Dia Novena de Santa Teresa de Jesus
DESCRIPTION:Tema: Oração consciente e iluminada por Deus
URL:https://paroquiasantateresa.com.br/evento/7o-dia-novena-de-santa-teresa-de-jesus-2/
ATTACH;FMTTYPE=image/jpeg:https://paroquiasantateresa.com.br/wp-content/uploads/2024/10/IMG-20240930-WA0020.jpg
END:VEVENT
BEGIN:VEVENT
DTSTART;TZID=UTC:20241012T073000
DTEND;TZID=UTC:20241012T210000
DTSTAMP:20260423T225502
CREATED:20241001T003608Z
LAST-MODIFIED:20241001T003608Z
UID:3279-1728718200-1728766800@paroquiasantateresa.com.br
SUMMARY:Missa Solene da Bem-Aventurada Virgem Maria da Conceição Aparecida
DESCRIPTION:Dia: 12/10 \nMissas: 07h00 e 19h30
URL:https://paroquiasantateresa.com.br/evento/missa-solene-da-bem-aventurada-virgem-maria-da-conceicao-aparecida/
ATTACH;FMTTYPE=image/jpeg:https://paroquiasantateresa.com.br/wp-content/uploads/2024/10/IMG-20240930-WA0027.jpg
END:VEVENT
BEGIN:VEVENT
DTSTART;TZID=UTC:20241011T193000
DTEND;TZID=UTC:20241011T203000
DTSTAMP:20260423T225502
CREATED:20241001T001741Z
LAST-MODIFIED:20241001T001741Z
UID:3246-1728675000-1728678600@paroquiasantateresa.com.br
SUMMARY:6º Dia Novena de Santa Teresa de Jesus
DESCRIPTION:Tema: Oração no silêncio eloquente e na solidão povoada da presença de Deus
URL:https://paroquiasantateresa.com.br/evento/6o-dia-novena-de-santa-teresa-de-jesus-2/
ATTACH;FMTTYPE=image/jpeg:https://paroquiasantateresa.com.br/wp-content/uploads/2024/10/IMG-20240930-WA0022.jpg
END:VEVENT
BEGIN:VEVENT
DTSTART;TZID=UTC:20241010T193000
DTEND;TZID=UTC:20241010T203000
DTSTAMP:20260423T225502
CREATED:20241001T002257Z
LAST-MODIFIED:20241001T002257Z
UID:3255-1728588600-1728592200@paroquiasantateresa.com.br
SUMMARY:5º Dia Novena de Santa Teresa de Jesus
DESCRIPTION:Tema: Oração frequente\, disciplinada e perseverante.
URL:https://paroquiasantateresa.com.br/evento/5o-dia-novena-de-santa-teresa-de-jesus-2/
ATTACH;FMTTYPE=image/jpeg:https://paroquiasantateresa.com.br/wp-content/uploads/2024/10/IMG-20240930-WA0019.jpg
END:VEVENT
BEGIN:VEVENT
DTSTART;TZID=UTC:20241009T193000
DTEND;TZID=UTC:20241009T203000
DTSTAMP:20260423T225502
CREATED:20241001T001933Z
LAST-MODIFIED:20241001T001945Z
UID:3249-1728502200-1728505800@paroquiasantateresa.com.br
SUMMARY:4º Dia Novena de Santa Teresa de Jesus
DESCRIPTION:Tema: Oração de intimidade e profundo relacionamento de amor com Deus\,
URL:https://paroquiasantateresa.com.br/evento/4o-dia-novena-de-santa-teresa-de-jesus-2/
ATTACH;FMTTYPE=image/jpeg:https://paroquiasantateresa.com.br/wp-content/uploads/2024/10/IMG-20240930-WA0021.jpg
END:VEVENT
BEGIN:VEVENT
DTSTART;TZID=UTC:20241008T193000
DTEND;TZID=UTC:20241008T203000
DTSTAMP:20260423T225502
CREATED:20221004T010413Z
LAST-MODIFIED:20241001T000102Z
UID:2112-1728415800-1728419400@paroquiasantateresa.com.br
SUMMARY:3º Dia Novena de Santa Teresa de Jesus
DESCRIPTION:Tema: Oração realista\, do céu e da terra.
URL:https://paroquiasantateresa.com.br/evento/3o-dia-novena-de-santa-teresa-de-jesus/
ATTACH;FMTTYPE=image/jpeg:https://paroquiasantateresa.com.br/wp-content/uploads/2022/10/IMG-20240930-WA0016.jpg
END:VEVENT
BEGIN:VEVENT
DTSTART;TZID=UTC:20241007T193000
DTEND;TZID=UTC:20241007T203000
DTSTAMP:20260423T225502
CREATED:20241001T001240Z
LAST-MODIFIED:20241001T001240Z
UID:3234-1728329400-1728333000@paroquiasantateresa.com.br
SUMMARY:2º Dia Novena de Santa Teresa de Jesus
DESCRIPTION:Tema: Oração “pessoal” que Santa Teresa oferece a todos.
URL:https://paroquiasantateresa.com.br/evento/2o-dia-novena-de-santa-teresa-de-jesus-2/
ATTACH;FMTTYPE=image/jpeg:https://paroquiasantateresa.com.br/wp-content/uploads/2024/10/IMG-20240930-WA0006.jpg
END:VEVENT
BEGIN:VEVENT
DTSTART;TZID=UTC:20241006T180000
DTEND;TZID=UTC:20241006T193000
DTSTAMP:20260423T225502
CREATED:20221004T010256Z
LAST-MODIFIED:20240930T235701Z
UID:2107-1728237600-1728243000@paroquiasantateresa.com.br
SUMMARY:1º Dia Novena de Santa Teresa de Jesus
DESCRIPTION:Tema: Introdução geral ao tema do Novenário
URL:https://paroquiasantateresa.com.br/evento/1o-dia-novena-de-santa-teresa-de-jesus/
ATTACH;FMTTYPE=image/jpeg:https://paroquiasantateresa.com.br/wp-content/uploads/2022/10/IMG-20240930-WA0024.jpg
END:VEVENT
BEGIN:VEVENT
DTSTART;TZID=UTC:20241004T121500
DTEND;TZID=UTC:20241004T131500
DTSTAMP:20260423T225502
CREATED:20221004T012359Z
LAST-MODIFIED:20241001T003733Z
UID:2134-1728044100-1728047700@paroquiasantateresa.com.br
SUMMARY:São Francisco de Assis
DESCRIPTION:Sexta-Feira\, 04 de outubro – 12h15
URL:https://paroquiasantateresa.com.br/evento/sao-francisco-de-assis-memoria/
ATTACH;FMTTYPE=image/jpeg:https://paroquiasantateresa.com.br/wp-content/uploads/2022/10/IMG-20240930-WA0026.jpg
END:VEVENT
BEGIN:VEVENT
DTSTART;TZID=UTC:20240930T070000
DTEND;TZID=UTC:20240930T203000
DTSTAMP:20260423T225502
CREATED:20220907T010739Z
LAST-MODIFIED:20240903T000706Z
UID:2071-1727679600-1727728200@paroquiasantateresa.com.br
SUMMARY:Missa em memória a São Jerônimo\, Presbítero e Doutor da Igreja
DESCRIPTION:Segunda-Feira\, 30 de setembro – Missas às 7H00 e 19H30
URL:https://paroquiasantateresa.com.br/evento/sao-jeronimo-presbitero-e-doutor-da-igreja-memoria/
ATTACH;FMTTYPE=image/jpeg:https://paroquiasantateresa.com.br/wp-content/uploads/2022/09/IMG-20240902-WA0009.jpg
END:VEVENT
BEGIN:VEVENT
DTSTART;TZID=UTC:20240921T070000
DTEND;TZID=UTC:20240921T080000
DTSTAMP:20260423T225502
CREATED:20230909T005724Z
LAST-MODIFIED:20240902T235623Z
UID:2867-1726902000-1726905600@paroquiasantateresa.com.br
SUMMARY:Missa Festiva de São Mateus Apostolo e Evangelista
DESCRIPTION:Sábado\, 21 de setembro. \nMissa: 7H00
URL:https://paroquiasantateresa.com.br/evento/sao-mateus-apostolo-festa/
CATEGORIES:All Events
ATTACH;FMTTYPE=image/jpeg:https://paroquiasantateresa.com.br/wp-content/uploads/2023/09/IMG-20240902-WA0003.jpg
END:VEVENT
BEGIN:VEVENT
DTSTART;TZID=UTC:20240914T070000
DTEND;TZID=UTC:20240914T080000
DTSTAMP:20260423T225502
CREATED:20230909T005411Z
LAST-MODIFIED:20240903T000518Z
UID:2858-1726297200-1726300800@paroquiasantateresa.com.br
SUMMARY:Missa festiva da Exaltação da Santa Cruz
DESCRIPTION:Sábado\, 14 de setembro – Missa às 7H00
URL:https://paroquiasantateresa.com.br/evento/exaltacao-da-santa-cruz-festa-2/
ATTACH;FMTTYPE=image/jpeg:https://paroquiasantateresa.com.br/wp-content/uploads/2023/09/IMG-20240902-WA0008.jpg
END:VEVENT
BEGIN:VEVENT
DTSTART;TZID=UTC:20240901T120000
DTEND;TZID=UTC:20241005T180000
DTSTAMP:20260423T225502
CREATED:20230909T004443Z
LAST-MODIFIED:20240903T000219Z
UID:2845-1725192000-1728151200@paroquiasantateresa.com.br
SUMMARY:Encontrinho Jovem
DESCRIPTION:Dia: 05/10 \nHorário: 09hoo às 18h00 \nLocal: Basílica do Carmo
URL:https://paroquiasantateresa.com.br/evento/encontro-de-casais-com-cristo-2/
CATEGORIES:All Events,Event in Slider
ATTACH;FMTTYPE=image/jpeg:https://paroquiasantateresa.com.br/wp-content/uploads/2023/09/IMG-20240902-WA0006.jpg
END:VEVENT
BEGIN:VEVENT
DTSTART;TZID=UTC:20240817T193000
DTEND;TZID=UTC:20240818T213000
DTSTAMP:20260423T225502
CREATED:20230730T005125Z
LAST-MODIFIED:20240729T235514Z
UID:2833-1723923000-1724016600@paroquiasantateresa.com.br
SUMMARY:Missa Solene da Assunção da Bem-Aventurada Virgem Maria
DESCRIPTION:Sábado\, 17 de agosto – Missa às 19h30 \nDomingo\, 18 de agosto – Missas 07h00\, 9h00\, 11h00\, 18h00 e 20h00
URL:https://paroquiasantateresa.com.br/evento/assuncao-de-nossa-senhora-solenidade-2/
ATTACH;FMTTYPE=image/jpeg:https://paroquiasantateresa.com.br/wp-content/uploads/2023/07/IMG-20240729-WA0005.jpg
END:VEVENT
BEGIN:VEVENT
DTSTART;TZID=UTC:20240810T090000
DTEND;TZID=UTC:20240810T150000
DTSTAMP:20260423T225502
CREATED:20220803T031701Z
LAST-MODIFIED:20240713T135125Z
UID:2019-1723280400-1723302000@paroquiasantateresa.com.br
SUMMARY:Bazar da Teresa
DESCRIPTION:Roupas seminovas\, sapatos\, utensílios de cozinha\, artigos religiosos\, enfeites e muito mais!
URL:https://paroquiasantateresa.com.br/evento/bazar-dos-pais/
CATEGORIES:All Events
ATTACH;FMTTYPE=image/jpeg:https://paroquiasantateresa.com.br/wp-content/uploads/2022/08/Imagem-do-WhatsApp-de-2024-07-11-as-22.30.17_c0a3f2cd.jpg
END:VEVENT
BEGIN:VEVENT
DTSTART;TZID=UTC:20240806T193000
DTEND;TZID=UTC:20240806T213000
DTSTAMP:20260423T225502
CREATED:20230730T001915Z
LAST-MODIFIED:20240729T235659Z
UID:2787-1722972600-1722979800@paroquiasantateresa.com.br
SUMMARY:Missa festiva da Transfiguração do Senhor
DESCRIPTION:Terça-Feira\, 05 de agosto – Missa às 7h00 e 19h30
URL:https://paroquiasantateresa.com.br/evento/transfiguracao-do-senhor/
ATTACH;FMTTYPE=image/jpeg:https://paroquiasantateresa.com.br/wp-content/uploads/2023/07/IMG-20240729-WA0006.jpg
END:VEVENT
BEGIN:VEVENT
DTSTART;TZID=UTC:20240727T070000
DTEND;TZID=UTC:20240727T203000
DTSTAMP:20260423T225502
CREATED:20230709T005153Z
LAST-MODIFIED:20240713T140517Z
UID:2755-1722063600-1722112200@paroquiasantateresa.com.br
SUMMARY:Missa em memória a São Tito Brandsma
DESCRIPTION:Sábado\, 27 de julho. \nMissa: 7H00
URL:https://paroquiasantateresa.com.br/evento/santo-tito-brandsma-martire-memoria/
CATEGORIES:All Events
ATTACH;FMTTYPE=image/jpeg:https://paroquiasantateresa.com.br/wp-content/uploads/2023/07/IMG-20240704-WA0007.jpg
END:VEVENT
BEGIN:VEVENT
DTSTART;TZID=UTC:20240726T070000
DTEND;TZID=UTC:20240726T203000
DTSTAMP:20260423T225502
CREATED:20230709T005332Z
LAST-MODIFIED:20240713T140648Z
UID:2758-1721977200-1722025800@paroquiasantateresa.com.br
SUMMARY:Missa em memória a São Joaquim e Santana
DESCRIPTION:Sexta-Feira\, 26 de julho. \nMissas: 7H00 e 19H30. (Benção ao avós)
URL:https://paroquiasantateresa.com.br/evento/sao-joaquim-e-santa-ana-pais-de-nossa-senhora-memoria/
CATEGORIES:All Events
ATTACH;FMTTYPE=image/jpeg:https://paroquiasantateresa.com.br/wp-content/uploads/2023/07/IMG-20240704-WA0004.jpg
END:VEVENT
BEGIN:VEVENT
DTSTART;TZID=UTC:20240720T070000
DTEND;TZID=UTC:20240720T203000
DTSTAMP:20260423T225502
CREATED:20220629T030247Z
LAST-MODIFIED:20240713T135914Z
UID:1897-1721458800-1721507400@paroquiasantateresa.com.br
SUMMARY:Missa em memória ao Santo Profeta Elias
DESCRIPTION:Sábado\, 20 de julho – Missas às 7H00 e 19H30
URL:https://paroquiasantateresa.com.br/evento/santo-profeta-elias-solenidade/
ATTACH;FMTTYPE=image/jpeg:https://paroquiasantateresa.com.br/wp-content/uploads/2022/06/IMG-20240704-WA0005.jpg
END:VEVENT
END:VCALENDAR